BEGIN:VCALENDAR
VERSION:2.0
PRODID:-//AudioTheme 1.8.0
BEGIN:VEVENT
UID:http://stargazers.ie/?post_type=audiotheme_gig&#038;p=208
URL:http://stargazers.ie/shows/2016-03-18/
DTSTART;TZID=GMT:20160327T190000
SUMMARY:STARGAZERS at The BALLYMALOE GRAINSTORE
LOCATION:Ballymaloe Grainstore\, Shanagarry\, Ballymaloe Grainstore\, Shanagarry\, Co.Cork\, \, Ireland\, Book tickets: https://www.eventbrite.ie/e/stargazers-ballymaloe-grainstore-sunday-27-march-tickets-21080003859
END:VEVENT
END:VCALENDAR