BEGIN:VCALENDAR
VERSION:2.0
PRODID:-//AudioTheme 1.8.0
BEGIN:VEVENT
UID:http://stargazers.ie/?post_type=audiotheme_gig&#038;p=33
URL:http://stargazers.ie/shows/benefit-concert-for-medecins-sans-frontieres/
DTSTART;TZID=GMT:20151210T193000
SUMMARY:BENEFIT CONCERT FOR MÉDECINS SANS FRONTIÈRES
DESCRIPTION:This fundraiser features a double bill of The Lee Valley String Band and Stargazers. This stellar line up will be compered by Philip King of RTÉs ‘Other Voices’ and RTÉ Radio One’s ‘The South Wind Blows’.
LOCATION:Triskel Arts Centre\, Tobin St\, Cork City\, Triskel Arts Centre\, Cork\, \, Ireland
END:VEVENT
END:VCALENDAR