BEGIN:VCALENDAR
VERSION:2.0
PRODID:-//AudioTheme 1.8.0
BEGIN:VEVENT
UID:http://stargazers.ie/?post_type=audiotheme_gig&#038;p=176
URL:http://stargazers.ie/shows/gig-176/
DTSTART;TZID=GMT:20160129T210000
SUMMARY:STARGAZERS at COUGHLAN'S
LOCATION:Coughlan's Bar & Beer Garden\, 7 Douglas Street\, Coughlan's Bar & Beer Garden\, Cork\, \, Ireland
END:VEVENT
END:VCALENDAR