BEGIN:VCALENDAR
VERSION:2.0
PRODID:-//AudioTheme 1.8.0
BEGIN:VEVENT
UID:http://stargazers.ie/?post_type=audiotheme_gig&#038;p=79
URL:http://stargazers.ie/shows/gig-79/
DTSTART;TZID=GMT:20151231T210000
SUMMARY:NEW YEARS EVE!
DESCRIPTION:SORRY\, SOLD OUT!
LOCATION:Harbour View Hotel\, Main Street\, Schull\, Co. Cork\, Harbour View Hotel\, Schull\, \, Ireland
END:VEVENT
END:VCALENDAR