BEGIN:VCALENDAR
VERSION:2.0
PRODID:-//AudioTheme 1.8.0
BEGIN:VEVENT
UID:http://stargazers.ie/?post_type=audiotheme_gig&#038;p=213
URL:http://stargazers.ie/shows/stargazers-at-levis-corner-house/
DTSTART;TZID=GMT:20160319T193000
SUMMARY:STARGAZERS at LEVIS CORNER HOUSE, BALLYDEHOB
LOCATION:Levis Corner House\, Main Street\, Ballydehob\, Co.Cork\, Levis Corner House\, Main Street\, Ballydehob\, Co. Cork\, \, Ireland
END:VEVENT
END:VCALENDAR